BEGIN:VCALENDAR
VERSION:2.0
PRODID:-//Carmarthenshire CAMRA - ECPv6.15.20//NONSGML v1.0//EN
CALSCALE:GREGORIAN
METHOD:PUBLISH
X-ORIGINAL-URL:https://carmarthenshire.camra.org.uk
X-WR-CALDESC:Events for Carmarthenshire CAMRA
REFRESH-INTERVAL;VALUE=DURATION:PT1H
X-Robots-Tag:noindex
X-PUBLISHED-TTL:PT1H
BEGIN:VTIMEZONE
TZID:Europe/London
BEGIN:DAYLIGHT
TZOFFSETFROM:+0000
TZOFFSETTO:+0100
TZNAME:BST
DTSTART:20250330T010000
END:DAYLIGHT
BEGIN:STANDARD
TZOFFSETFROM:+0100
TZOFFSETTO:+0000
TZNAME:GMT
DTSTART:20251026T010000
END:STANDARD
BEGIN:DAYLIGHT
TZOFFSETFROM:+0000
TZOFFSETTO:+0100
TZNAME:BST
DTSTART:20260329T010000
END:DAYLIGHT
BEGIN:STANDARD
TZOFFSETFROM:+0100
TZOFFSETTO:+0000
TZNAME:GMT
DTSTART:20261025T010000
END:STANDARD
BEGIN:DAYLIGHT
TZOFFSETFROM:+0000
TZOFFSETTO:+0100
TZNAME:BST
DTSTART:20270328T010000
END:DAYLIGHT
BEGIN:STANDARD
TZOFFSETFROM:+0100
TZOFFSETTO:+0000
TZNAME:GMT
DTSTART:20271031T010000
END:STANDARD
END:VTIMEZONE
BEGIN:VEVENT
DTSTART;TZID=Europe/London:20260514T190000
DTEND;TZID=Europe/London:20260514T210000
DTSTAMP:20260422T011933
CREATED:20260414T082804Z
LAST-MODIFIED:20260414T082804Z
UID:9692-1778785200-1778792400@carmarthenshire.camra.org.uk
SUMMARY:Club of the Year presentation
DESCRIPTION:Presentation of branch and regional Club of the Year award at Pontyberem Working Men’s Club on 14th May at 7pm.
URL:https://carmarthenshire.camra.org.uk/index.php/event/club-of-the-year-presentation/
LOCATION:Pontyberem Working Mans Club\, 2 Furnace Terrace\, Pontyberem\, Llanelli\, SA15 5AE\, United Kingdom
CATEGORIES:Social
END:VEVENT
BEGIN:VEVENT
DTSTART;TZID=Europe/London:20260516T130000
DTEND;TZID=Europe/London:20260516T170000
DTSTAMP:20260422T011933
CREATED:20260414T083157Z
LAST-MODIFIED:20260414T083157Z
UID:9695-1778936400-1778950800@carmarthenshire.camra.org.uk
SUMMARY:Pub of the Year presentation
DESCRIPTION:Presentation of Pub of the Year certificate\, and joint social with Pembrokeshire CAMRA\, at the Station House\, Whitland\, on the 16th May 2026\, at 13:00
URL:https://carmarthenshire.camra.org.uk/index.php/event/pub-of-the-year-presentation/
LOCATION:Station House\, St John's Street\, Whitland\, Sa34 0AP
CATEGORIES:Social
END:VEVENT
BEGIN:VEVENT
DTSTART;TZID=Europe/London:20260606T130000
DTEND;TZID=Europe/London:20260606T170000
DTSTAMP:20260422T011933
CREATED:20260414T083736Z
LAST-MODIFIED:20260414T083736Z
UID:9699-1780750800-1780765200@carmarthenshire.camra.org.uk
SUMMARY:AGM and June 2026 meeting
DESCRIPTION:Annual General Meeting – to be held at The Salutation Inn\, Llandeilo on the 6th June 2026\, at 13:00 for 13:30. Please bring your own food – there are several food outlets in the centre of Llandeilo that sell pies\, pasties\, etc. \n33 New Rd\, Llandeilo SA19 6DF
URL:https://carmarthenshire.camra.org.uk/index.php/event/agm-and-june-2026-meeting/
LOCATION:The Salutation Inn\, 33 New Rd\, Llandeilo\, Carmarthenshire\, SA19 6DF\, United Kingdom
CATEGORIES:Meeting,Social
END:VEVENT
END:VCALENDAR